BEGIN:VCALENDAR
VERSION:2.0
PRODID:www.mvvkuurne.be
X-WR-CALNAME:MVV Kuurne - Seizoen 2025-2026
BEGIN:VEVENT
UID:69eb357c26e94
DTSTART:20250828T180000Z
SEQUENCE:0
TRANSP:OPAQUE
DTEND:20250828T190000Z
SUMMARY:Wedstrijd 7 MVV Kuurne
CLASS:PUBLIC
DESCRIPTION:Comp wedstrijd 7: Vitesse Ampe - MVC Young Boys 21
X-ALT-DESC;FMTTYPE=text/html:Comp wedstrijd 7: <b>Vitesse Ampe - MVC Young 
 Boys 21</b>
X-MICROSOFT-CDO-BUSYSTATUS:FREE
X-MICROSOFT-CDO-INTENDEDSTATUS:FREE
DTSTAMP:20260424T091852Z
BEGIN:VALARM
TRIGGER:-P1D
ACTION:DISPLAY
DESCRIPTION:Comp wedstrijd 7: Vitesse Ampe - MVC Young Boys 21
END:VALARM
END:VEVENT
BEGIN:VEVENT
UID:69eb357c27475
DTSTART:20250908T190000Z
SEQUENCE:0
TRANSP:OPAQUE
DTEND:20250908T200000Z
SUMMARY:Wedstrijd 20 MVV Kuurne
CLASS:PUBLIC
DESCRIPTION:Comp wedstrijd 20: Vitesse Ampe - I.G. Vloerwerken
X-ALT-DESC;FMTTYPE=text/html:Comp wedstrijd 20: <b>Vitesse Ampe - I.G. Vloe
 rwerken</b>
X-MICROSOFT-CDO-BUSYSTATUS:FREE
X-MICROSOFT-CDO-INTENDEDSTATUS:FREE
DTSTAMP:20260424T091852Z
BEGIN:VALARM
TRIGGER:-P1D
ACTION:DISPLAY
DESCRIPTION:Comp wedstrijd 20: Vitesse Ampe - I.G. Vloerwerken
END:VALARM
END:VEVENT
BEGIN:VEVENT
UID:69eb357c274b3
DTSTART:20250918T160000Z
SEQUENCE:0
TRANSP:OPAQUE
DTEND:20250918T170000Z
SUMMARY:Wedstrijd 29 MVV Kuurne
CLASS:PUBLIC
DESCRIPTION:Comp wedstrijd 29: Vitesse Ampe - FC Sportkaffee
X-ALT-DESC;FMTTYPE=text/html:Comp wedstrijd 29: <b>Vitesse Ampe - FC Sportk
 affee</b>
X-MICROSOFT-CDO-BUSYSTATUS:FREE
X-MICROSOFT-CDO-INTENDEDSTATUS:FREE
DTSTAMP:20260424T091852Z
BEGIN:VALARM
TRIGGER:-P1D
ACTION:DISPLAY
DESCRIPTION:Comp wedstrijd 29: Vitesse Ampe - FC Sportkaffee
END:VALARM
END:VEVENT
BEGIN:VEVENT
UID:69eb357c274d9
DTSTART:20250925T170000Z
SEQUENCE:0
TRANSP:OPAQUE
DTEND:20250925T180000Z
SUMMARY:Wedstrijd 38 MVV Kuurne
CLASS:PUBLIC
DESCRIPTION:Comp wedstrijd 38: MVC De Kerels - Vitesse Ampe
X-ALT-DESC;FMTTYPE=text/html:Comp wedstrijd 38: <b>MVC De Kerels - Vitesse 
 Ampe</b>
X-MICROSOFT-CDO-BUSYSTATUS:FREE
X-MICROSOFT-CDO-INTENDEDSTATUS:FREE
DTSTAMP:20260424T091852Z
BEGIN:VALARM
TRIGGER:-P1D
ACTION:DISPLAY
DESCRIPTION:Comp wedstrijd 38: MVC De Kerels - Vitesse Ampe
END:VALARM
END:VEVENT
BEGIN:VEVENT
UID:69eb357c274fa
DTSTART:20251002T180000Z
SEQUENCE:0
TRANSP:OPAQUE
DTEND:20251002T190000Z
SUMMARY:Wedstrijd 9 MVV Kuurne
CLASS:PUBLIC
DESCRIPTION:Beker wedstrijd 9: Café Stadion - Vitesse Ampe
X-ALT-DESC;FMTTYPE=text/html:Beker wedstrijd 9: <b>Café Stadion - Vitesse 
 Ampe</b>
X-MICROSOFT-CDO-BUSYSTATUS:FREE
X-MICROSOFT-CDO-INTENDEDSTATUS:FREE
DTSTAMP:20260424T091852Z
BEGIN:VALARM
TRIGGER:-P1D
ACTION:DISPLAY
DESCRIPTION:Beker wedstrijd 9: Café Stadion - Vitesse Ampe
END:VALARM
END:VEVENT
BEGIN:VEVENT
UID:69eb357c2751a
DTSTART:20251013T190000Z
SEQUENCE:0
TRANSP:OPAQUE
DTEND:20251013T200000Z
SUMMARY:Wedstrijd 46 MVV Kuurne
CLASS:PUBLIC
DESCRIPTION:Comp wedstrijd 46: Vitesse Ampe - Paniekzaaiers
X-ALT-DESC;FMTTYPE=text/html:Comp wedstrijd 46: <b>Vitesse Ampe - Paniekzaa
 iers</b>
X-MICROSOFT-CDO-BUSYSTATUS:FREE
X-MICROSOFT-CDO-INTENDEDSTATUS:FREE
DTSTAMP:20260424T091852Z
BEGIN:VALARM
TRIGGER:-P1D
ACTION:DISPLAY
DESCRIPTION:Comp wedstrijd 46: Vitesse Ampe - Paniekzaaiers
END:VALARM
END:VEVENT
BEGIN:VEVENT
UID:69eb357c2753a
DTSTART:20251027T180000Z
SEQUENCE:0
TRANSP:OPAQUE
DTEND:20251027T190000Z
SUMMARY:Wedstrijd 60 MVV Kuurne
CLASS:PUBLIC
DESCRIPTION:Comp wedstrijd 60: Ultrawear Indoor - Vitesse Ampe
X-ALT-DESC;FMTTYPE=text/html:Comp wedstrijd 60: <b>Ultrawear Indoor - Vites
 se Ampe</b>
X-MICROSOFT-CDO-BUSYSTATUS:FREE
X-MICROSOFT-CDO-INTENDEDSTATUS:FREE
DTSTAMP:20260424T091852Z
BEGIN:VALARM
TRIGGER:-P1D
ACTION:DISPLAY
DESCRIPTION:Comp wedstrijd 60: Ultrawear Indoor - Vitesse Ampe
END:VALARM
END:VEVENT
BEGIN:VEVENT
UID:69eb357c2755a
DTSTART:20251103T170000Z
SEQUENCE:0
TRANSP:OPAQUE
DTEND:20251103T180000Z
SUMMARY:Wedstrijd 67 MVV Kuurne
CLASS:PUBLIC
DESCRIPTION:Comp wedstrijd 67: Icebears - Vitesse Ampe
X-ALT-DESC;FMTTYPE=text/html:Comp wedstrijd 67: <b>Icebears - Vitesse Ampe<
 /b>
X-MICROSOFT-CDO-BUSYSTATUS:FREE
X-MICROSOFT-CDO-INTENDEDSTATUS:FREE
DTSTAMP:20260424T091852Z
BEGIN:VALARM
TRIGGER:-P1D
ACTION:DISPLAY
DESCRIPTION:Comp wedstrijd 67: Icebears - Vitesse Ampe
END:VALARM
END:VEVENT
BEGIN:VEVENT
UID:69eb357c27579
DTSTART:20251106T190000Z
SEQUENCE:0
TRANSP:OPAQUE
DTEND:20251106T200000Z
SUMMARY:Wedstrijd 11 MVV Kuurne
CLASS:PUBLIC
DESCRIPTION:Beker wedstrijd 11: MVC Young Boys 21 - Vitesse Ampe
X-ALT-DESC;FMTTYPE=text/html:Beker wedstrijd 11: <b>MVC Young Boys 21 - Vit
 esse Ampe</b>
X-MICROSOFT-CDO-BUSYSTATUS:FREE
X-MICROSOFT-CDO-INTENDEDSTATUS:FREE
DTSTAMP:20260424T091852Z
BEGIN:VALARM
TRIGGER:-P1D
ACTION:DISPLAY
DESCRIPTION:Beker wedstrijd 11: MVC Young Boys 21 - Vitesse Ampe
END:VALARM
END:VEVENT
BEGIN:VEVENT
UID:69eb357c275a4
DTSTART:20251120T190000Z
SEQUENCE:0
TRANSP:OPAQUE
DTEND:20251120T200000Z
SUMMARY:Wedstrijd 79 MVV Kuurne
CLASS:PUBLIC
DESCRIPTION:Comp wedstrijd 79: The Reds Army - Vitesse Ampe
X-ALT-DESC;FMTTYPE=text/html:Comp wedstrijd 79: <b>The Reds Army - Vitesse 
 Ampe</b>
X-MICROSOFT-CDO-BUSYSTATUS:FREE
X-MICROSOFT-CDO-INTENDEDSTATUS:FREE
DTSTAMP:20260424T091852Z
BEGIN:VALARM
TRIGGER:-P1D
ACTION:DISPLAY
DESCRIPTION:Comp wedstrijd 79: The Reds Army - Vitesse Ampe
END:VALARM
END:VEVENT
BEGIN:VEVENT
UID:69eb357c275c3
DTSTART:20251201T170000Z
SEQUENCE:0
TRANSP:OPAQUE
DTEND:20251201T180000Z
SUMMARY:Wedstrijd 89 MVV Kuurne
CLASS:PUBLIC
DESCRIPTION:Comp wedstrijd 89: La Belle Fleur - Vitesse Ampe
X-ALT-DESC;FMTTYPE=text/html:Comp wedstrijd 89: <b>La Belle Fleur - Vitesse
  Ampe</b>
X-MICROSOFT-CDO-BUSYSTATUS:FREE
X-MICROSOFT-CDO-INTENDEDSTATUS:FREE
DTSTAMP:20260424T091852Z
BEGIN:VALARM
TRIGGER:-P1D
ACTION:DISPLAY
DESCRIPTION:Comp wedstrijd 89: La Belle Fleur - Vitesse Ampe
END:VALARM
END:VEVENT
BEGIN:VEVENT
UID:69eb357c275e3
DTSTART:20251208T190000Z
SEQUENCE:0
TRANSP:OPAQUE
DTEND:20251208T200000Z
SUMMARY:Wedstrijd 99 MVV Kuurne
CLASS:PUBLIC
DESCRIPTION:Comp wedstrijd 99: FC Sportkaffee - Vitesse Ampe
X-ALT-DESC;FMTTYPE=text/html:Comp wedstrijd 99: <b>FC Sportkaffee - Vitesse
  Ampe</b>
X-MICROSOFT-CDO-BUSYSTATUS:FREE
X-MICROSOFT-CDO-INTENDEDSTATUS:FREE
DTSTAMP:20260424T091852Z
BEGIN:VALARM
TRIGGER:-P1D
ACTION:DISPLAY
DESCRIPTION:Comp wedstrijd 99: FC Sportkaffee - Vitesse Ampe
END:VALARM
END:VEVENT
BEGIN:VEVENT
UID:69eb357c27602
DTSTART:20251218T190000Z
SEQUENCE:0
TRANSP:OPAQUE
DTEND:20251218T200000Z
SUMMARY:Wedstrijd 29 MVV Kuurne
CLASS:PUBLIC
DESCRIPTION:Beker wedstrijd 29: Vitesse Ampe - Warehouse Derudder
X-ALT-DESC;FMTTYPE=text/html:Beker wedstrijd 29: <b>Vitesse Ampe - Warehous
 e Derudder</b>
X-MICROSOFT-CDO-BUSYSTATUS:FREE
X-MICROSOFT-CDO-INTENDEDSTATUS:FREE
DTSTAMP:20260424T091852Z
BEGIN:VALARM
TRIGGER:-P1D
ACTION:DISPLAY
DESCRIPTION:Beker wedstrijd 29: Vitesse Ampe - Warehouse Derudder
END:VALARM
END:VEVENT
BEGIN:VEVENT
UID:69eb357c27621
DTSTART:20260108T200000Z
SEQUENCE:0
TRANSP:OPAQUE
DTEND:20260108T210000Z
SUMMARY:Wedstrijd 110 MVV Kuurne
CLASS:PUBLIC
DESCRIPTION:Comp wedstrijd 110: I.G. Vloerwerken - Vitesse Ampe
X-ALT-DESC;FMTTYPE=text/html:Comp wedstrijd 110: <b>I.G. Vloerwerken - Vite
 sse Ampe</b>
X-MICROSOFT-CDO-BUSYSTATUS:FREE
X-MICROSOFT-CDO-INTENDEDSTATUS:FREE
DTSTAMP:20260424T091852Z
BEGIN:VALARM
TRIGGER:-P1D
ACTION:DISPLAY
DESCRIPTION:Comp wedstrijd 110: I.G. Vloerwerken - Vitesse Ampe
END:VALARM
END:VEVENT
BEGIN:VEVENT
UID:69eb357c27641
DTSTART:20260115T190000Z
SEQUENCE:0
TRANSP:OPAQUE
DTEND:20260115T200000Z
SUMMARY:Wedstrijd 31 MVV Kuurne
CLASS:PUBLIC
DESCRIPTION:Beker wedstrijd 31: Vitesse Ampe - MVC Young Boys 21
X-ALT-DESC;FMTTYPE=text/html:Beker wedstrijd 31: <b>Vitesse Ampe - MVC Youn
 g Boys 21</b>
X-MICROSOFT-CDO-BUSYSTATUS:FREE
X-MICROSOFT-CDO-INTENDEDSTATUS:FREE
DTSTAMP:20260424T091852Z
BEGIN:VALARM
TRIGGER:-P1D
ACTION:DISPLAY
DESCRIPTION:Beker wedstrijd 31: Vitesse Ampe - MVC Young Boys 21
END:VALARM
END:VEVENT
BEGIN:VEVENT
UID:69eb357c27660
DTSTART:20260126T190000Z
SEQUENCE:0
TRANSP:OPAQUE
DTEND:20260126T200000Z
SUMMARY:Wedstrijd 119 MVV Kuurne
CLASS:PUBLIC
DESCRIPTION:Comp wedstrijd 119: Vitesse Ampe - The Reds Army
X-ALT-DESC;FMTTYPE=text/html:Comp wedstrijd 119: <b>Vitesse Ampe - The Reds
  Army</b>
X-MICROSOFT-CDO-BUSYSTATUS:FREE
X-MICROSOFT-CDO-INTENDEDSTATUS:FREE
DTSTAMP:20260424T091852Z
BEGIN:VALARM
TRIGGER:-P1D
ACTION:DISPLAY
DESCRIPTION:Comp wedstrijd 119: Vitesse Ampe - The Reds Army
END:VALARM
END:VEVENT
BEGIN:VEVENT
UID:69eb357c2767f
DTSTART:20260202T200000Z
SEQUENCE:0
TRANSP:OPAQUE
DTEND:20260202T210000Z
SUMMARY:Wedstrijd 128 MVV Kuurne
CLASS:PUBLIC
DESCRIPTION:Comp wedstrijd 128: Vitesse Ampe - MVC De Kerels
X-ALT-DESC;FMTTYPE=text/html:Comp wedstrijd 128: <b>Vitesse Ampe - MVC De K
 erels</b>
X-MICROSOFT-CDO-BUSYSTATUS:FREE
X-MICROSOFT-CDO-INTENDEDSTATUS:FREE
DTSTAMP:20260424T091852Z
BEGIN:VALARM
TRIGGER:-P1D
ACTION:DISPLAY
DESCRIPTION:Comp wedstrijd 128: Vitesse Ampe - MVC De Kerels
END:VALARM
END:VEVENT
BEGIN:VEVENT
UID:69eb357c2769d
DTSTART:20260212T180000Z
SEQUENCE:0
TRANSP:OPAQUE
DTEND:20260212T190000Z
SUMMARY:Wedstrijd 138 MVV Kuurne
CLASS:PUBLIC
DESCRIPTION:Comp wedstrijd 138: Paniekzaaiers - Vitesse Ampe
X-ALT-DESC;FMTTYPE=text/html:Comp wedstrijd 138: <b>Paniekzaaiers - Vitesse
  Ampe</b>
X-MICROSOFT-CDO-BUSYSTATUS:FREE
X-MICROSOFT-CDO-INTENDEDSTATUS:FREE
DTSTAMP:20260424T091852Z
BEGIN:VALARM
TRIGGER:-P1D
ACTION:DISPLAY
DESCRIPTION:Comp wedstrijd 138: Paniekzaaiers - Vitesse Ampe
END:VALARM
END:VEVENT
BEGIN:VEVENT
UID:69eb357c276bb
DTSTART:20260305T170000Z
SEQUENCE:0
TRANSP:OPAQUE
DTEND:20260305T180000Z
SUMMARY:Wedstrijd 47 MVV Kuurne
CLASS:PUBLIC
DESCRIPTION:Beker wedstrijd 47: Vitesse Ampe - Café Stadion
X-ALT-DESC;FMTTYPE=text/html:Beker wedstrijd 47: <b>Vitesse Ampe - Café St
 adion</b>
X-MICROSOFT-CDO-BUSYSTATUS:FREE
X-MICROSOFT-CDO-INTENDEDSTATUS:FREE
DTSTAMP:20260424T091852Z
BEGIN:VALARM
TRIGGER:-P1D
ACTION:DISPLAY
DESCRIPTION:Beker wedstrijd 47: Vitesse Ampe - Café Stadion
END:VALARM
END:VEVENT
BEGIN:VEVENT
UID:69eb357c276d9
DTSTART:20260309T200000Z
SEQUENCE:0
TRANSP:OPAQUE
DTEND:20260309T210000Z
SUMMARY:Wedstrijd 150 MVV Kuurne
CLASS:PUBLIC
DESCRIPTION:Comp wedstrijd 150: Vitesse Ampe - Ultrawear Indoor
X-ALT-DESC;FMTTYPE=text/html:Comp wedstrijd 150: <b>Vitesse Ampe - Ultrawea
 r Indoor</b>
X-MICROSOFT-CDO-BUSYSTATUS:FREE
X-MICROSOFT-CDO-INTENDEDSTATUS:FREE
DTSTAMP:20260424T091852Z
BEGIN:VALARM
TRIGGER:-P1D
ACTION:DISPLAY
DESCRIPTION:Comp wedstrijd 150: Vitesse Ampe - Ultrawear Indoor
END:VALARM
END:VEVENT
BEGIN:VEVENT
UID:69eb357c276f8
DTSTART:20260316T180000Z
SEQUENCE:0
TRANSP:OPAQUE
DTEND:20260316T190000Z
SUMMARY:Wedstrijd 156 MVV Kuurne
CLASS:PUBLIC
DESCRIPTION:Comp wedstrijd 156: Vitesse Ampe - La Belle Fleur
X-ALT-DESC;FMTTYPE=text/html:Comp wedstrijd 156: <b>Vitesse Ampe - La Belle
  Fleur</b>
X-MICROSOFT-CDO-BUSYSTATUS:FREE
X-MICROSOFT-CDO-INTENDEDSTATUS:FREE
DTSTAMP:20260424T091852Z
BEGIN:VALARM
TRIGGER:-P1D
ACTION:DISPLAY
DESCRIPTION:Comp wedstrijd 156: Vitesse Ampe - La Belle Fleur
END:VALARM
END:VEVENT
BEGIN:VEVENT
UID:69eb357c27716
DTSTART:20260326T170000Z
SEQUENCE:0
TRANSP:OPAQUE
DTEND:20260326T180000Z
SUMMARY:Wedstrijd 167 MVV Kuurne
CLASS:PUBLIC
DESCRIPTION:Comp wedstrijd 167: Vitesse Ampe - Icebears
X-ALT-DESC;FMTTYPE=text/html:Comp wedstrijd 167: <b>Vitesse Ampe - Icebears
 </b>
X-MICROSOFT-CDO-BUSYSTATUS:FREE
X-MICROSOFT-CDO-INTENDEDSTATUS:FREE
DTSTAMP:20260424T091852Z
BEGIN:VALARM
TRIGGER:-P1D
ACTION:DISPLAY
DESCRIPTION:Comp wedstrijd 167: Vitesse Ampe - Icebears
END:VALARM
END:VEVENT
BEGIN:VEVENT
UID:69eb357c27734
DTSTART:20260402T190000Z
SEQUENCE:0
TRANSP:OPAQUE
DTEND:20260402T200000Z
SUMMARY:Wedstrijd 60 MVV Kuurne
CLASS:PUBLIC
DESCRIPTION:Beker wedstrijd 60: Warehouse Derudder - Vitesse Ampe
X-ALT-DESC;FMTTYPE=text/html:Beker wedstrijd 60: <b>Warehouse Derudder - Vi
 tesse Ampe</b>
X-MICROSOFT-CDO-BUSYSTATUS:FREE
X-MICROSOFT-CDO-INTENDEDSTATUS:FREE
DTSTAMP:20260424T091852Z
BEGIN:VALARM
TRIGGER:-P1D
ACTION:DISPLAY
DESCRIPTION:Beker wedstrijd 60: Warehouse Derudder - Vitesse Ampe
END:VALARM
END:VEVENT
BEGIN:VEVENT
UID:69eb357c27753
DTSTART:20260423T160000Z
SEQUENCE:0
TRANSP:OPAQUE
DTEND:20260423T170000Z
SUMMARY:Wedstrijd 177 MVV Kuurne
CLASS:PUBLIC
DESCRIPTION:Comp wedstrijd 177: MVC Young Boys 21 - Vitesse Ampe
X-ALT-DESC;FMTTYPE=text/html:Comp wedstrijd 177: <b>MVC Young Boys 21 - Vit
 esse Ampe</b>
X-MICROSOFT-CDO-BUSYSTATUS:FREE
X-MICROSOFT-CDO-INTENDEDSTATUS:FREE
DTSTAMP:20260424T091852Z
BEGIN:VALARM
TRIGGER:-P1D
ACTION:DISPLAY
DESCRIPTION:Comp wedstrijd 177: MVC Young Boys 21 - Vitesse Ampe
END:VALARM
END:VEVENT
BEGIN:VEVENT
UID:69eb357c27771
DTSTART:20260428T180000Z
SEQUENCE:0
TRANSP:OPAQUE
DTEND:20260428T190000Z
SUMMARY:Wedstrijd 187 MVV Kuurne
CLASS:PUBLIC
DESCRIPTION:Comp wedstrijd 187: Vitesse Ampe - MVC Young Boys 21
X-ALT-DESC;FMTTYPE=text/html:Comp wedstrijd 187: <b>Vitesse Ampe - MVC Youn
 g Boys 21</b>
X-MICROSOFT-CDO-BUSYSTATUS:FREE
X-MICROSOFT-CDO-INTENDEDSTATUS:FREE
DTSTAMP:20260424T091852Z
BEGIN:VALARM
TRIGGER:-P1D
ACTION:DISPLAY
DESCRIPTION:Comp wedstrijd 187: Vitesse Ampe - MVC Young Boys 21
END:VALARM
END:VEVENT
BEGIN:VEVENT
UID:69eb357c2778f
DTSTART:20260505T190000Z
SEQUENCE:0
TRANSP:OPAQUE
DTEND:20260505T200000Z
SUMMARY:Wedstrijd 200 MVV Kuurne
CLASS:PUBLIC
DESCRIPTION:Comp wedstrijd 200: Vitesse Ampe - I.G. Vloerwerken
X-ALT-DESC;FMTTYPE=text/html:Comp wedstrijd 200: <b>Vitesse Ampe - I.G. Vlo
 erwerken</b>
X-MICROSOFT-CDO-BUSYSTATUS:FREE
X-MICROSOFT-CDO-INTENDEDSTATUS:FREE
DTSTAMP:20260424T091852Z
BEGIN:VALARM
TRIGGER:-P1D
ACTION:DISPLAY
DESCRIPTION:Comp wedstrijd 200: Vitesse Ampe - I.G. Vloerwerken
END:VALARM
END:VEVENT
BEGIN:VEVENT
UID:69eb357c277ad
DTSTART:20260518T160000Z
SEQUENCE:0
TRANSP:OPAQUE
DTEND:20260518T170000Z
SUMMARY:Wedstrijd 209 MVV Kuurne
CLASS:PUBLIC
DESCRIPTION:Comp wedstrijd 209: Vitesse Ampe - FC Sportkaffee
X-ALT-DESC;FMTTYPE=text/html:Comp wedstrijd 209: <b>Vitesse Ampe - FC Sport
 kaffee</b>
X-MICROSOFT-CDO-BUSYSTATUS:FREE
X-MICROSOFT-CDO-INTENDEDSTATUS:FREE
DTSTAMP:20260424T091852Z
BEGIN:VALARM
TRIGGER:-P1D
ACTION:DISPLAY
DESCRIPTION:Comp wedstrijd 209: Vitesse Ampe - FC Sportkaffee
END:VALARM
END:VEVENT
BEGIN:VEVENT
UID:69eb357c277cb
DTSTART:20260521T170000Z
SEQUENCE:0
TRANSP:OPAQUE
DTEND:20260521T180000Z
SUMMARY:Wedstrijd 218 MVV Kuurne
CLASS:PUBLIC
DESCRIPTION:Comp wedstrijd 218: MVC De Kerels - Vitesse Ampe
X-ALT-DESC;FMTTYPE=text/html:Comp wedstrijd 218: <b>MVC De Kerels - Vitesse
  Ampe</b>
X-MICROSOFT-CDO-BUSYSTATUS:FREE
X-MICROSOFT-CDO-INTENDEDSTATUS:FREE
DTSTAMP:20260424T091852Z
BEGIN:VALARM
TRIGGER:-P1D
ACTION:DISPLAY
DESCRIPTION:Comp wedstrijd 218: MVC De Kerels - Vitesse Ampe
END:VALARM
END:VEVENT
BEGIN:VEVENT
UID:69eb357c277e9
DTSTART:20260528T190000Z
SEQUENCE:0
TRANSP:OPAQUE
DTEND:20260528T200000Z
SUMMARY:Wedstrijd 228 MVV Kuurne
CLASS:PUBLIC
DESCRIPTION:Comp wedstrijd 228: Vitesse Ampe - Paniekzaaiers
X-ALT-DESC;FMTTYPE=text/html:Comp wedstrijd 228: <b>Vitesse Ampe - Paniekza
 aiers</b>
X-MICROSOFT-CDO-BUSYSTATUS:FREE
X-MICROSOFT-CDO-INTENDEDSTATUS:FREE
DTSTAMP:20260424T091852Z
BEGIN:VALARM
TRIGGER:-P1D
ACTION:DISPLAY
DESCRIPTION:Comp wedstrijd 228: Vitesse Ampe - Paniekzaaiers
END:VALARM
END:VEVENT
BEGIN:VEVENT
UID:69eb357c27806
DTSTART:20260604T190000Z
SEQUENCE:0
TRANSP:OPAQUE
DTEND:20260604T200000Z
SUMMARY:Wedstrijd 240 MVV Kuurne
CLASS:PUBLIC
DESCRIPTION:Comp wedstrijd 240: Ultrawear Indoor - Vitesse Ampe
X-ALT-DESC;FMTTYPE=text/html:Comp wedstrijd 240: <b>Ultrawear Indoor - Vite
 sse Ampe</b>
X-MICROSOFT-CDO-BUSYSTATUS:FREE
X-MICROSOFT-CDO-INTENDEDSTATUS:FREE
DTSTAMP:20260424T091852Z
BEGIN:VALARM
TRIGGER:-P1D
ACTION:DISPLAY
DESCRIPTION:Comp wedstrijd 240: Ultrawear Indoor - Vitesse Ampe
END:VALARM
END:VEVENT
BEGIN:VEVENT
UID:69eb357c27825
DTSTART:20260609T180000Z
SEQUENCE:0
TRANSP:OPAQUE
DTEND:20260609T190000Z
SUMMARY:Wedstrijd 247 MVV Kuurne
CLASS:PUBLIC
DESCRIPTION:Comp wedstrijd 247: Icebears - Vitesse Ampe
X-ALT-DESC;FMTTYPE=text/html:Comp wedstrijd 247: <b>Icebears - Vitesse Ampe
 </b>
X-MICROSOFT-CDO-BUSYSTATUS:FREE
X-MICROSOFT-CDO-INTENDEDSTATUS:FREE
DTSTAMP:20260424T091852Z
BEGIN:VALARM
TRIGGER:-P1D
ACTION:DISPLAY
DESCRIPTION:Comp wedstrijd 247: Icebears - Vitesse Ampe
END:VALARM
END:VEVENT
BEGIN:VEVENT
UID:69eb357c27844
DTSTART:20260616T170000Z
SEQUENCE:0
TRANSP:OPAQUE
DTEND:20260616T180000Z
SUMMARY:Wedstrijd 258 MVV Kuurne
CLASS:PUBLIC
DESCRIPTION:Comp wedstrijd 258: The Reds Army - Vitesse Ampe
X-ALT-DESC;FMTTYPE=text/html:Comp wedstrijd 258: <b>The Reds Army - Vitesse
  Ampe</b>
X-MICROSOFT-CDO-BUSYSTATUS:FREE
X-MICROSOFT-CDO-INTENDEDSTATUS:FREE
DTSTAMP:20260424T091852Z
BEGIN:VALARM
TRIGGER:-P1D
ACTION:DISPLAY
DESCRIPTION:Comp wedstrijd 258: The Reds Army - Vitesse Ampe
END:VALARM
END:VEVENT
BEGIN:VEVENT
UID:69eb357c27861
DTSTART:20260622T170000Z
SEQUENCE:0
TRANSP:OPAQUE
DTEND:20260622T180000Z
SUMMARY:Wedstrijd 266 MVV Kuurne
CLASS:PUBLIC
DESCRIPTION:Comp wedstrijd 266: La Belle Fleur - Vitesse Ampe
X-ALT-DESC;FMTTYPE=text/html:Comp wedstrijd 266: <b>La Belle Fleur - Vitess
 e Ampe</b>
X-MICROSOFT-CDO-BUSYSTATUS:FREE
X-MICROSOFT-CDO-INTENDEDSTATUS:FREE
DTSTAMP:20260424T091852Z
BEGIN:VALARM
TRIGGER:-P1D
ACTION:DISPLAY
DESCRIPTION:Comp wedstrijd 266: La Belle Fleur - Vitesse Ampe
END:VALARM
END:VEVENT
END:VCALENDAR