BEGIN:VCALENDAR
VERSION:2.0
PRODID:www.mvvkuurne.be
X-WR-CALNAME:MVV Kuurne - Seizoen 2025-2026
BEGIN:VEVENT
UID:69e5927b8fec6
DTSTART:20250825T180000Z
SEQUENCE:0
TRANSP:OPAQUE
DTEND:20250825T190000Z
SUMMARY:Wedstrijd 3 MVV Kuurne
CLASS:PUBLIC
DESCRIPTION:Comp wedstrijd 3: Kroone United - Warehouse Derudder
X-ALT-DESC;FMTTYPE=text/html:Comp wedstrijd 3: <b>Kroone United - Warehouse
  Derudder</b>
X-MICROSOFT-CDO-BUSYSTATUS:FREE
X-MICROSOFT-CDO-INTENDEDSTATUS:FREE
DTSTAMP:20260420T024203Z
BEGIN:VALARM
TRIGGER:-P1D
ACTION:DISPLAY
DESCRIPTION:Comp wedstrijd 3: Kroone United - Warehouse Derudder
END:VALARM
END:VEVENT
BEGIN:VEVENT
UID:69e5927b9055c
DTSTART:20250904T180000Z
SEQUENCE:0
TRANSP:OPAQUE
DTEND:20250904T190000Z
SUMMARY:Wedstrijd 15 MVV Kuurne
CLASS:PUBLIC
DESCRIPTION:Comp wedstrijd 15: Café Stadion - Kroone United
X-ALT-DESC;FMTTYPE=text/html:Comp wedstrijd 15: <b>Café Stadion - Kroone U
 nited</b>
X-MICROSOFT-CDO-BUSYSTATUS:FREE
X-MICROSOFT-CDO-INTENDEDSTATUS:FREE
DTSTAMP:20260420T024203Z
BEGIN:VALARM
TRIGGER:-P1D
ACTION:DISPLAY
DESCRIPTION:Comp wedstrijd 15: Café Stadion - Kroone United
END:VALARM
END:VEVENT
BEGIN:VEVENT
UID:69e5927b905a9
DTSTART:20250915T160000Z
SEQUENCE:0
TRANSP:OPAQUE
DTEND:20250915T170000Z
SUMMARY:Wedstrijd 25 MVV Kuurne
CLASS:PUBLIC
DESCRIPTION:Comp wedstrijd 25: Kroone United - Seizoeners
X-ALT-DESC;FMTTYPE=text/html:Comp wedstrijd 25: <b>Kroone United - Seizoene
 rs</b>
X-MICROSOFT-CDO-BUSYSTATUS:FREE
X-MICROSOFT-CDO-INTENDEDSTATUS:FREE
DTSTAMP:20260420T024203Z
BEGIN:VALARM
TRIGGER:-P1D
ACTION:DISPLAY
DESCRIPTION:Comp wedstrijd 25: Kroone United - Seizoeners
END:VALARM
END:VEVENT
BEGIN:VEVENT
UID:69e5927b905d4
DTSTART:20250922T170000Z
SEQUENCE:0
TRANSP:OPAQUE
DTEND:20250922T180000Z
SUMMARY:Wedstrijd 34 MVV Kuurne
CLASS:PUBLIC
DESCRIPTION:Comp wedstrijd 34: Frituur De Beke - Kroone United
X-ALT-DESC;FMTTYPE=text/html:Comp wedstrijd 34: <b>Frituur De Beke - Kroone
  United</b>
X-MICROSOFT-CDO-BUSYSTATUS:FREE
X-MICROSOFT-CDO-INTENDEDSTATUS:FREE
DTSTAMP:20260420T024203Z
BEGIN:VALARM
TRIGGER:-P1D
ACTION:DISPLAY
DESCRIPTION:Comp wedstrijd 34: Frituur De Beke - Kroone United
END:VALARM
END:VEVENT
BEGIN:VEVENT
UID:69e5927b905fc
DTSTART:20250929T160000Z
SEQUENCE:0
TRANSP:OPAQUE
DTEND:20250929T170000Z
SUMMARY:Wedstrijd 3 MVV Kuurne
CLASS:PUBLIC
DESCRIPTION:Beker wedstrijd 3: La Belle Fleur - Kroone United
X-ALT-DESC;FMTTYPE=text/html:Beker wedstrijd 3: <b>La Belle Fleur - Kroone 
 United</b>
X-MICROSOFT-CDO-BUSYSTATUS:FREE
X-MICROSOFT-CDO-INTENDEDSTATUS:FREE
DTSTAMP:20260420T024203Z
BEGIN:VALARM
TRIGGER:-P1D
ACTION:DISPLAY
DESCRIPTION:Beker wedstrijd 3: La Belle Fleur - Kroone United
END:VALARM
END:VEVENT
BEGIN:VEVENT
UID:69e5927b90627
DTSTART:20251013T170000Z
SEQUENCE:0
TRANSP:OPAQUE
DTEND:20251013T180000Z
SUMMARY:Wedstrijd 44 MVV Kuurne
CLASS:PUBLIC
DESCRIPTION:Comp wedstrijd 44: Kroone United - Leiemeers
X-ALT-DESC;FMTTYPE=text/html:Comp wedstrijd 44: <b>Kroone United - Leiemeer
 s</b>
X-MICROSOFT-CDO-BUSYSTATUS:FREE
X-MICROSOFT-CDO-INTENDEDSTATUS:FREE
DTSTAMP:20260420T024203Z
BEGIN:VALARM
TRIGGER:-P1D
ACTION:DISPLAY
DESCRIPTION:Comp wedstrijd 44: Kroone United - Leiemeers
END:VALARM
END:VEVENT
BEGIN:VEVENT
UID:69e5927b9064f
DTSTART:20251020T160000Z
SEQUENCE:0
TRANSP:OPAQUE
DTEND:20251020T170000Z
SUMMARY:Wedstrijd 51 MVV Kuurne
CLASS:PUBLIC
DESCRIPTION:Comp wedstrijd 51: De Vagant - Kroone United
X-ALT-DESC;FMTTYPE=text/html:Comp wedstrijd 51: <b>De Vagant - Kroone Unite
 d</b>
X-MICROSOFT-CDO-BUSYSTATUS:FREE
X-MICROSOFT-CDO-INTENDEDSTATUS:FREE
DTSTAMP:20260420T024203Z
BEGIN:VALARM
TRIGGER:-P1D
ACTION:DISPLAY
DESCRIPTION:Comp wedstrijd 51: De Vagant - Kroone United
END:VALARM
END:VEVENT
BEGIN:VEVENT
UID:69e5927b90672
DTSTART:20251027T190000Z
SEQUENCE:0
TRANSP:OPAQUE
DTEND:20251027T200000Z
SUMMARY:Wedstrijd 61 MVV Kuurne
CLASS:PUBLIC
DESCRIPTION:Comp wedstrijd 61: Union Vertila - Kroone United
X-ALT-DESC;FMTTYPE=text/html:Comp wedstrijd 61: <b>Union Vertila - Kroone U
 nited</b>
X-MICROSOFT-CDO-BUSYSTATUS:FREE
X-MICROSOFT-CDO-INTENDEDSTATUS:FREE
DTSTAMP:20260420T024203Z
BEGIN:VALARM
TRIGGER:-P1D
ACTION:DISPLAY
DESCRIPTION:Comp wedstrijd 61: Union Vertila - Kroone United
END:VALARM
END:VEVENT
BEGIN:VEVENT
UID:69e5927b9069c
DTSTART:20251110T170000Z
SEQUENCE:0
TRANSP:OPAQUE
DTEND:20251110T180000Z
SUMMARY:Wedstrijd 13 MVV Kuurne
CLASS:PUBLIC
DESCRIPTION:Beker wedstrijd 13: Kroone United - Bistro Biboo
X-ALT-DESC;FMTTYPE=text/html:Beker wedstrijd 13: <b>Kroone United - Bistro 
 Biboo</b>
X-MICROSOFT-CDO-BUSYSTATUS:FREE
X-MICROSOFT-CDO-INTENDEDSTATUS:FREE
DTSTAMP:20260420T024203Z
BEGIN:VALARM
TRIGGER:-P1D
ACTION:DISPLAY
DESCRIPTION:Beker wedstrijd 13: Kroone United - Bistro Biboo
END:VALARM
END:VEVENT
BEGIN:VEVENT
UID:69e5927b906c6
DTSTART:20251117T170000Z
SEQUENCE:0
TRANSP:OPAQUE
DTEND:20251117T180000Z
SUMMARY:Wedstrijd 73 MVV Kuurne
CLASS:PUBLIC
DESCRIPTION:Comp wedstrijd 73: Spectrum - Kroone United
X-ALT-DESC;FMTTYPE=text/html:Comp wedstrijd 73: <b>Spectrum - Kroone United
 </b>
X-MICROSOFT-CDO-BUSYSTATUS:FREE
X-MICROSOFT-CDO-INTENDEDSTATUS:FREE
DTSTAMP:20260420T024203Z
BEGIN:VALARM
TRIGGER:-P1D
ACTION:DISPLAY
DESCRIPTION:Comp wedstrijd 73: Spectrum - Kroone United
END:VALARM
END:VEVENT
BEGIN:VEVENT
UID:69e5927b906e8
DTSTART:20251124T170000Z
SEQUENCE:0
TRANSP:OPAQUE
DTEND:20251124T180000Z
SUMMARY:Wedstrijd 81 MVV Kuurne
CLASS:PUBLIC
DESCRIPTION:Comp wedstrijd 81: Kroone United - Bistro Biboo
X-ALT-DESC;FMTTYPE=text/html:Comp wedstrijd 81: <b>Kroone United - Bistro B
 iboo</b>
X-MICROSOFT-CDO-BUSYSTATUS:FREE
X-MICROSOFT-CDO-INTENDEDSTATUS:FREE
DTSTAMP:20260420T024203Z
BEGIN:VALARM
TRIGGER:-P1D
ACTION:DISPLAY
DESCRIPTION:Comp wedstrijd 81: Kroone United - Bistro Biboo
END:VALARM
END:VEVENT
BEGIN:VEVENT
UID:69e5927b90711
DTSTART:20251204T190000Z
SEQUENCE:0
TRANSP:OPAQUE
DTEND:20251204T200000Z
SUMMARY:Wedstrijd 95 MVV Kuurne
CLASS:PUBLIC
DESCRIPTION:Comp wedstrijd 95: Seizoeners - Kroone United
X-ALT-DESC;FMTTYPE=text/html:Comp wedstrijd 95: <b>Seizoeners - Kroone Unit
 ed</b>
X-MICROSOFT-CDO-BUSYSTATUS:FREE
X-MICROSOFT-CDO-INTENDEDSTATUS:FREE
DTSTAMP:20260420T024203Z
BEGIN:VALARM
TRIGGER:-P1D
ACTION:DISPLAY
DESCRIPTION:Comp wedstrijd 95: Seizoeners - Kroone United
END:VALARM
END:VEVENT
BEGIN:VEVENT
UID:69e5927b90734
DTSTART:20251211T190000Z
SEQUENCE:0
TRANSP:OPAQUE
DTEND:20251211T200000Z
SUMMARY:Wedstrijd 21 MVV Kuurne
CLASS:PUBLIC
DESCRIPTION:Beker wedstrijd 21: The Reds Army - Kroone United
X-ALT-DESC;FMTTYPE=text/html:Beker wedstrijd 21: <b>The Reds Army - Kroone 
 United</b>
X-MICROSOFT-CDO-BUSYSTATUS:FREE
X-MICROSOFT-CDO-INTENDEDSTATUS:FREE
DTSTAMP:20260420T024203Z
BEGIN:VALARM
TRIGGER:-P1D
ACTION:DISPLAY
DESCRIPTION:Beker wedstrijd 21: The Reds Army - Kroone United
END:VALARM
END:VEVENT
BEGIN:VEVENT
UID:69e5927b9075e
DTSTART:20260105T190000Z
SEQUENCE:0
TRANSP:OPAQUE
DTEND:20260105T200000Z
SUMMARY:Wedstrijd 105 MVV Kuurne
CLASS:PUBLIC
DESCRIPTION:Comp wedstrijd 105: Kroone United - Café Stadion
X-ALT-DESC;FMTTYPE=text/html:Comp wedstrijd 105: <b>Kroone United - Café S
 tadion</b>
X-MICROSOFT-CDO-BUSYSTATUS:FREE
X-MICROSOFT-CDO-INTENDEDSTATUS:FREE
DTSTAMP:20260420T024203Z
BEGIN:VALARM
TRIGGER:-P1D
ACTION:DISPLAY
DESCRIPTION:Comp wedstrijd 105: Kroone United - Café Stadion
END:VALARM
END:VEVENT
BEGIN:VEVENT
UID:69e5927b9078a
DTSTART:20260112T190000Z
SEQUENCE:0
TRANSP:OPAQUE
DTEND:20260112T200000Z
SUMMARY:Wedstrijd 113 MVV Kuurne
CLASS:PUBLIC
DESCRIPTION:Comp wedstrijd 113: Kroone United - Spectrum
X-ALT-DESC;FMTTYPE=text/html:Comp wedstrijd 113: <b>Kroone United - Spectru
 m</b>
X-MICROSOFT-CDO-BUSYSTATUS:FREE
X-MICROSOFT-CDO-INTENDEDSTATUS:FREE
DTSTAMP:20260420T024203Z
BEGIN:VALARM
TRIGGER:-P1D
ACTION:DISPLAY
DESCRIPTION:Comp wedstrijd 113: Kroone United - Spectrum
END:VALARM
END:VEVENT
BEGIN:VEVENT
UID:69e5927b907b1
DTSTART:20260119T170000Z
SEQUENCE:0
TRANSP:OPAQUE
DTEND:20260119T180000Z
SUMMARY:Wedstrijd 33 MVV Kuurne
CLASS:PUBLIC
DESCRIPTION:Beker wedstrijd 33: Bistro Biboo - Kroone United
X-ALT-DESC;FMTTYPE=text/html:Beker wedstrijd 33: <b>Bistro Biboo - Kroone U
 nited</b>
X-MICROSOFT-CDO-BUSYSTATUS:FREE
X-MICROSOFT-CDO-INTENDEDSTATUS:FREE
DTSTAMP:20260420T024203Z
BEGIN:VALARM
TRIGGER:-P1D
ACTION:DISPLAY
DESCRIPTION:Beker wedstrijd 33: Bistro Biboo - Kroone United
END:VALARM
END:VEVENT
BEGIN:VEVENT
UID:69e5927b907d5
DTSTART:20260129T180000Z
SEQUENCE:0
TRANSP:OPAQUE
DTEND:20260129T190000Z
SUMMARY:Wedstrijd 122 MVV Kuurne
CLASS:PUBLIC
DESCRIPTION:Comp wedstrijd 122: Kroone United - Frituur De Beke
X-ALT-DESC;FMTTYPE=text/html:Comp wedstrijd 122: <b>Kroone United - Frituur
  De Beke</b>
X-MICROSOFT-CDO-BUSYSTATUS:FREE
X-MICROSOFT-CDO-INTENDEDSTATUS:FREE
DTSTAMP:20260420T024203Z
BEGIN:VALARM
TRIGGER:-P1D
ACTION:DISPLAY
DESCRIPTION:Comp wedstrijd 122: Kroone United - Frituur De Beke
END:VALARM
END:VEVENT
BEGIN:VEVENT
UID:69e5927b90801
DTSTART:20260209T180000Z
SEQUENCE:0
TRANSP:OPAQUE
DTEND:20260209T190000Z
SUMMARY:Wedstrijd 134 MVV Kuurne
CLASS:PUBLIC
DESCRIPTION:Comp wedstrijd 134: Leiemeers - Kroone United
X-ALT-DESC;FMTTYPE=text/html:Comp wedstrijd 134: <b>Leiemeers - Kroone Unit
 ed</b>
X-MICROSOFT-CDO-BUSYSTATUS:FREE
X-MICROSOFT-CDO-INTENDEDSTATUS:FREE
DTSTAMP:20260420T024203Z
BEGIN:VALARM
TRIGGER:-P1D
ACTION:DISPLAY
DESCRIPTION:Comp wedstrijd 134: Leiemeers - Kroone United
END:VALARM
END:VEVENT
BEGIN:VEVENT
UID:69e5927b90821
DTSTART:20260223T170000Z
SEQUENCE:0
TRANSP:OPAQUE
DTEND:20260223T180000Z
SUMMARY:Wedstrijd 141 MVV Kuurne
CLASS:PUBLIC
DESCRIPTION:Comp wedstrijd 141: Kroone United - De Vagant
X-ALT-DESC;FMTTYPE=text/html:Comp wedstrijd 141: <b>Kroone United - De Vaga
 nt</b>
X-MICROSOFT-CDO-BUSYSTATUS:FREE
X-MICROSOFT-CDO-INTENDEDSTATUS:FREE
DTSTAMP:20260420T024203Z
BEGIN:VALARM
TRIGGER:-P1D
ACTION:DISPLAY
DESCRIPTION:Comp wedstrijd 141: Kroone United - De Vagant
END:VALARM
END:VEVENT
BEGIN:VEVENT
UID:69e5927b90841
DTSTART:20260302T180000Z
SEQUENCE:0
TRANSP:OPAQUE
DTEND:20260302T190000Z
SUMMARY:Wedstrijd 44 MVV Kuurne
CLASS:PUBLIC
DESCRIPTION:Beker wedstrijd 44: Kroone United - La Belle Fleur
X-ALT-DESC;FMTTYPE=text/html:Beker wedstrijd 44: <b>Kroone United - La Bell
 e Fleur</b>
X-MICROSOFT-CDO-BUSYSTATUS:FREE
X-MICROSOFT-CDO-INTENDEDSTATUS:FREE
DTSTAMP:20260420T024203Z
BEGIN:VALARM
TRIGGER:-P1D
ACTION:DISPLAY
DESCRIPTION:Beker wedstrijd 44: Kroone United - La Belle Fleur
END:VALARM
END:VEVENT
BEGIN:VEVENT
UID:69e5927b90860
DTSTART:20260312T180000Z
SEQUENCE:0
TRANSP:OPAQUE
DTEND:20260312T190000Z
SUMMARY:Wedstrijd 152 MVV Kuurne
CLASS:PUBLIC
DESCRIPTION:Comp wedstrijd 152: Bistro Biboo - Kroone United
X-ALT-DESC;FMTTYPE=text/html:Comp wedstrijd 152: <b>Bistro Biboo - Kroone U
 nited</b>
X-MICROSOFT-CDO-BUSYSTATUS:FREE
X-MICROSOFT-CDO-INTENDEDSTATUS:FREE
DTSTAMP:20260420T024203Z
BEGIN:VALARM
TRIGGER:-P1D
ACTION:DISPLAY
DESCRIPTION:Comp wedstrijd 152: Bistro Biboo - Kroone United
END:VALARM
END:VEVENT
BEGIN:VEVENT
UID:69e5927b9088a
DTSTART:20260319T190000Z
SEQUENCE:0
TRANSP:OPAQUE
DTEND:20260319T200000Z
SUMMARY:Wedstrijd 161 MVV Kuurne
CLASS:PUBLIC
DESCRIPTION:Comp wedstrijd 161: Kroone United - Union Vertila
X-ALT-DESC;FMTTYPE=text/html:Comp wedstrijd 161: <b>Kroone United - Union V
 ertila</b>
X-MICROSOFT-CDO-BUSYSTATUS:FREE
X-MICROSOFT-CDO-INTENDEDSTATUS:FREE
DTSTAMP:20260420T024203Z
BEGIN:VALARM
TRIGGER:-P1D
ACTION:DISPLAY
DESCRIPTION:Comp wedstrijd 161: Kroone United - Union Vertila
END:VALARM
END:VEVENT
BEGIN:VEVENT
UID:69e5927b908b2
DTSTART:20260330T160000Z
SEQUENCE:0
TRANSP:OPAQUE
DTEND:20260330T170000Z
SUMMARY:Wedstrijd 53 MVV Kuurne
CLASS:PUBLIC
DESCRIPTION:Beker wedstrijd 53: Kroone United - The Reds Army
X-ALT-DESC;FMTTYPE=text/html:Beker wedstrijd 53: <b>Kroone United - The Red
 s Army</b>
X-MICROSOFT-CDO-BUSYSTATUS:FREE
X-MICROSOFT-CDO-INTENDEDSTATUS:FREE
DTSTAMP:20260420T024203Z
BEGIN:VALARM
TRIGGER:-P1D
ACTION:DISPLAY
DESCRIPTION:Beker wedstrijd 53: Kroone United - The Reds Army
END:VALARM
END:VEVENT
BEGIN:VEVENT
UID:69e5927b908f2
DTSTART:20260421T160000Z
SEQUENCE:0
TRANSP:OPAQUE
DTEND:20260421T170000Z
SUMMARY:Wedstrijd 173 MVV Kuurne
CLASS:PUBLIC
DESCRIPTION:Comp wedstrijd 173: Warehouse Derudder - Kroone United
X-ALT-DESC;FMTTYPE=text/html:Comp wedstrijd 173: <b>Warehouse Derudder - Kr
 oone United</b>
X-MICROSOFT-CDO-BUSYSTATUS:FREE
X-MICROSOFT-CDO-INTENDEDSTATUS:FREE
DTSTAMP:20260420T024203Z
BEGIN:VALARM
TRIGGER:-P1D
ACTION:DISPLAY
DESCRIPTION:Comp wedstrijd 173: Warehouse Derudder - Kroone United
END:VALARM
END:VEVENT
BEGIN:VEVENT
UID:69e5927b90915
DTSTART:20260427T180000Z
SEQUENCE:0
TRANSP:OPAQUE
DTEND:20260427T190000Z
SUMMARY:Wedstrijd 183 MVV Kuurne
CLASS:PUBLIC
DESCRIPTION:Comp wedstrijd 183: Kroone United - Warehouse Derudder
X-ALT-DESC;FMTTYPE=text/html:Comp wedstrijd 183: <b>Kroone United - Warehou
 se Derudder</b>
X-MICROSOFT-CDO-BUSYSTATUS:FREE
X-MICROSOFT-CDO-INTENDEDSTATUS:FREE
DTSTAMP:20260420T024203Z
BEGIN:VALARM
TRIGGER:-P1D
ACTION:DISPLAY
DESCRIPTION:Comp wedstrijd 183: Kroone United - Warehouse Derudder
END:VALARM
END:VEVENT
BEGIN:VEVENT
UID:69e5927b90948
DTSTART:20260504T180000Z
SEQUENCE:0
TRANSP:OPAQUE
DTEND:20260504T190000Z
SUMMARY:Wedstrijd 195 MVV Kuurne
CLASS:PUBLIC
DESCRIPTION:Comp wedstrijd 195: Café Stadion - Kroone United
X-ALT-DESC;FMTTYPE=text/html:Comp wedstrijd 195: <b>Café Stadion - Kroone 
 United</b>
X-MICROSOFT-CDO-BUSYSTATUS:FREE
X-MICROSOFT-CDO-INTENDEDSTATUS:FREE
DTSTAMP:20260420T024203Z
BEGIN:VALARM
TRIGGER:-P1D
ACTION:DISPLAY
DESCRIPTION:Comp wedstrijd 195: Café Stadion - Kroone United
END:VALARM
END:VEVENT
BEGIN:VEVENT
UID:69e5927b90972
DTSTART:20260512T160000Z
SEQUENCE:0
TRANSP:OPAQUE
DTEND:20260512T170000Z
SUMMARY:Wedstrijd 205 MVV Kuurne
CLASS:PUBLIC
DESCRIPTION:Comp wedstrijd 205: Kroone United - Seizoeners
X-ALT-DESC;FMTTYPE=text/html:Comp wedstrijd 205: <b>Kroone United - Seizoen
 ers</b>
X-MICROSOFT-CDO-BUSYSTATUS:FREE
X-MICROSOFT-CDO-INTENDEDSTATUS:FREE
DTSTAMP:20260420T024203Z
BEGIN:VALARM
TRIGGER:-P1D
ACTION:DISPLAY
DESCRIPTION:Comp wedstrijd 205: Kroone United - Seizoeners
END:VALARM
END:VEVENT
BEGIN:VEVENT
UID:69e5927b90992
DTSTART:20260518T190000Z
SEQUENCE:0
TRANSP:OPAQUE
DTEND:20260518T200000Z
SUMMARY:Wedstrijd 212 MVV Kuurne
CLASS:PUBLIC
DESCRIPTION:Comp wedstrijd 212: Frituur De Beke - Kroone United
X-ALT-DESC;FMTTYPE=text/html:Comp wedstrijd 212: <b>Frituur De Beke - Kroon
 e United</b>
X-MICROSOFT-CDO-BUSYSTATUS:FREE
X-MICROSOFT-CDO-INTENDEDSTATUS:FREE
DTSTAMP:20260420T024203Z
BEGIN:VALARM
TRIGGER:-P1D
ACTION:DISPLAY
DESCRIPTION:Comp wedstrijd 212: Frituur De Beke - Kroone United
END:VALARM
END:VEVENT
BEGIN:VEVENT
UID:69e5927b909bd
DTSTART:20260526T190000Z
SEQUENCE:0
TRANSP:OPAQUE
DTEND:20260526T200000Z
SUMMARY:Wedstrijd 224 MVV Kuurne
CLASS:PUBLIC
DESCRIPTION:Comp wedstrijd 224: Kroone United - Leiemeers
X-ALT-DESC;FMTTYPE=text/html:Comp wedstrijd 224: <b>Kroone United - Leiemee
 rs</b>
X-MICROSOFT-CDO-BUSYSTATUS:FREE
X-MICROSOFT-CDO-INTENDEDSTATUS:FREE
DTSTAMP:20260420T024203Z
BEGIN:VALARM
TRIGGER:-P1D
ACTION:DISPLAY
DESCRIPTION:Comp wedstrijd 224: Kroone United - Leiemeers
END:VALARM
END:VEVENT
BEGIN:VEVENT
UID:69e5927b909e2
DTSTART:20260602T170000Z
SEQUENCE:0
TRANSP:OPAQUE
DTEND:20260602T180000Z
SUMMARY:Wedstrijd 234 MVV Kuurne
CLASS:PUBLIC
DESCRIPTION:Comp wedstrijd 234: De Vagant - Kroone United
X-ALT-DESC;FMTTYPE=text/html:Comp wedstrijd 234: <b>De Vagant - Kroone Unit
 ed</b>
X-MICROSOFT-CDO-BUSYSTATUS:FREE
X-MICROSOFT-CDO-INTENDEDSTATUS:FREE
DTSTAMP:20260420T024203Z
BEGIN:VALARM
TRIGGER:-P1D
ACTION:DISPLAY
DESCRIPTION:Comp wedstrijd 234: De Vagant - Kroone United
END:VALARM
END:VEVENT
BEGIN:VEVENT
UID:69e5927b90a08
DTSTART:20260608T160000Z
SEQUENCE:0
TRANSP:OPAQUE
DTEND:20260608T170000Z
SUMMARY:Wedstrijd 241 MVV Kuurne
CLASS:PUBLIC
DESCRIPTION:Comp wedstrijd 241: Union Vertila - Kroone United
X-ALT-DESC;FMTTYPE=text/html:Comp wedstrijd 241: <b>Union Vertila - Kroone 
 United</b>
X-MICROSOFT-CDO-BUSYSTATUS:FREE
X-MICROSOFT-CDO-INTENDEDSTATUS:FREE
DTSTAMP:20260420T024203Z
BEGIN:VALARM
TRIGGER:-P1D
ACTION:DISPLAY
DESCRIPTION:Comp wedstrijd 241: Union Vertila - Kroone United
END:VALARM
END:VEVENT
BEGIN:VEVENT
UID:69e5927b90a33
DTSTART:20260615T160000Z
SEQUENCE:0
TRANSP:OPAQUE
DTEND:20260615T170000Z
SUMMARY:Wedstrijd 253 MVV Kuurne
CLASS:PUBLIC
DESCRIPTION:Comp wedstrijd 253: Spectrum - Kroone United
X-ALT-DESC;FMTTYPE=text/html:Comp wedstrijd 253: <b>Spectrum - Kroone Unite
 d</b>
X-MICROSOFT-CDO-BUSYSTATUS:FREE
X-MICROSOFT-CDO-INTENDEDSTATUS:FREE
DTSTAMP:20260420T024203Z
BEGIN:VALARM
TRIGGER:-P1D
ACTION:DISPLAY
DESCRIPTION:Comp wedstrijd 253: Spectrum - Kroone United
END:VALARM
END:VEVENT
BEGIN:VEVENT
UID:69e5927b90a57
DTSTART:20260618T170000Z
SEQUENCE:0
TRANSP:OPAQUE
DTEND:20260618T180000Z
SUMMARY:Wedstrijd 262 MVV Kuurne
CLASS:PUBLIC
DESCRIPTION:Comp wedstrijd 262: Kroone United - Bistro Biboo
X-ALT-DESC;FMTTYPE=text/html:Comp wedstrijd 262: <b>Kroone United - Bistro 
 Biboo</b>
X-MICROSOFT-CDO-BUSYSTATUS:FREE
X-MICROSOFT-CDO-INTENDEDSTATUS:FREE
DTSTAMP:20260420T024203Z
BEGIN:VALARM
TRIGGER:-P1D
ACTION:DISPLAY
DESCRIPTION:Comp wedstrijd 262: Kroone United - Bistro Biboo
END:VALARM
END:VEVENT
END:VCALENDAR